BEGIN:VCALENDAR
VERSION:2.0
PRODID:-//My Calendar//http://www.joedolson.com//v3.2.17//EN
METHOD:PUBLISH
CALSCALE:GREGORIAN
X-WR-CALNAME:Igreja do Deus Vivo
X-PUBLISHED-TTL:PT24H
REFRESH-INTERVAL;VALUE=DURATION:PT24H
X-WR-CALDESC:Events from Igreja do Deus Vivo
BEGIN:VEVENT
UID:2-2
LOCATION:Igreja do Deus Vivo Central  Praça Carlos Gomes, 52 Liberdade  São Paulo São Paulo
SUMMARY:Teste II
DTSTAMP:20201022T000000
ORGANIZER;CN=Barbara Malato:MAILTO:bmalato@gmalato.com.br
DTSTART;TZID=Etc/GMT+3:20201022T000000
DTEND;TZID=Etc/GMT+3:20201023T000000
URL;VALUE=URI:http://gmalato.com.br/labs/IDDV/my-calendar/
DESCRIPTION:Este evento também é um teste 
CATEGORIES:General
X-FUNAMBOL-ALLDAY: 1
X-MICROSOFT-CDO-ALLDAYEVENT: TRUE

END:VEVENT
BEGIN:VEVENT
UID:1-1
LOCATION:Igreja do Deus Vivo Central  Praça Carlos Gomes, 52 Liberdade São Paulo São Paulo
SUMMARY:Teste
DTSTAMP:20201008T134500
ORGANIZER;CN=admin:MAILTO:fmorelli@gmalato.com.br
DTSTART;TZID=Etc/GMT+3:20201008T134500
DTEND;TZID=Etc/GMT+3:20201008T143000
URL;VALUE=URI:http://gmalato.com.br/labs/IDDV/my-calendar/
DESCRIPTION:Este é um evento teste 
CATEGORIES:General
END:VEVENT
END:VCALENDAR